BEGIN:VCALENDAR
VERSION:2.0
PRODID:-//LOCAL SPARK TORBAY - ECPv6.2.9//NONSGML v1.0//EN
CALSCALE:GREGORIAN
METHOD:PUBLISH
X-WR-CALNAME:LOCAL SPARK TORBAY
X-ORIGINAL-URL:https://localsparktorbay.org
X-WR-CALDESC:Events for LOCAL SPARK TORBAY
REFRESH-INTERVAL;VALUE=DURATION:PT1H
X-Robots-Tag:noindex
X-PUBLISHED-TTL:PT1H
BEGIN:VTIMEZONE
TZID:UTC
BEGIN:STANDARD
TZOFFSETFROM:+0000
TZOFFSETTO:+0000
TZNAME:UTC
DTSTART:20190101T000000
END:STANDARD
END:VTIMEZONE
BEGIN:VEVENT
DTSTART;TZID=UTC:20200203T180000
DTEND;TZID=UTC:20200203T200000
DTSTAMP:20260421T184136
CREATED:20200117T075232Z
LAST-MODIFIED:20200118T151224Z
UID:952-1580752800-1580760000@localsparktorbay.org
SUMMARY:Local Spark Monthly Meetup\, Feb 3
DESCRIPTION:We’re back at the fabulous WeDo in Torquay on Feb 3rd\, 6pm -8pm. \nWe’ll be talking about expert support options for local enterprises and upcoming events. Need help with business planning? Yes\, we can help. Finance planning and business models? Yep\, that\, too. I.T. and tech?  Yes.  And more. \nWe’ll chat about a few more things\, too\, such as upcoming workshops\, events\, ‘jellies’\, hackathons\, entrepreneur forum\, and even more! \nOf course\, we talk about the new Torbay Social Enterprise Network and how easy it is to become part of the rising social economy! \nSee you then. \nFunded by: \n \n  \n 
URL:https://localsparktorbay.org/event/local-spark-monthly-meetup-feb-3/
LOCATION:WeDo\, Vaughan Rd\, Torquay\, TQ2 5EQ\, United Kingdom
CATEGORIES:Local Spark event,TSEN event
ATTACH;FMTTYPE=image/jpeg:https://localsparktorbay.org/wp-content/uploads/2020/01/GetToegther_2ndSept2019_5.jpg
END:VEVENT
BEGIN:VEVENT
DTSTART;TZID=UTC:20200118T100000
DTEND;TZID=UTC:20200118T160000
DTSTAMP:20260421T184136
CREATED:20191127T124852Z
LAST-MODIFIED:20200117T073725Z
UID:681-1579341600-1579363200@localsparktorbay.org
SUMMARY:POSTPONED - Social Enterprise and Innovation
DESCRIPTION:What does it mean to be an entrepreneur in an age of ecological and social crises? How can we conjure new ideas and new solutions? Innovation – what is it and how does it ‘happen’? Is it the key ingredient for creating impact with social enterprise? We’ll tease out answers to these question and more as we explore topics like leadership and social innovation\, networks and complexity\, and radical new business models.  The course will be a mix of lecture\, activities and group discussion. \nWho is it for? Local/social/green entrepreneurs\, NGO leaders and ‘intrapreneurs’\, ‘meta’ and ‘network’ entrepreneurs\, anyone interested in social and economic innovation. \nFacilitator:  Jay Tompt\, co-founder of Local Spark Torbay and associate lecturer in economics at Plymouth University. He’s been leading workshops and giving talks on innovation and citizen-led economic development internationally for the past several years.  Prior to moving to the UK from San Francisco\, Jay spent 10 years as entrepreneur and consultant in the ‘green business movement’\, after a 12-year career in Silicon Valley. \nCost:  FREE \nLunch: coffee\, tea and nibbles provided. Please bring or buy your lunch. 🙂 \n  \n \n  \n  \n 
URL:https://localsparktorbay.org/event/another-one/
LOCATION:TBC\, United Kingdom
CATEGORIES:workshop
ATTACH;FMTTYPE=image/jpeg:https://localsparktorbay.org/wp-content/uploads/2019/11/P1070730-scaled-e1575378905606.jpg
END:VEVENT
BEGIN:VEVENT
DTSTART;TZID=UTC:20200106T180000
DTEND;TZID=UTC:20200106T200000
DTSTAMP:20260421T184136
CREATED:20191127T152637Z
LAST-MODIFIED:20191212T142307Z
UID:692-1578333600-1578340800@localsparktorbay.org
SUMMARY:Local Spark Meet Up\, Jan 6
DESCRIPTION:Join us in beautiful Brixham for our first Local Spark Meet Up event of 2020. We’ll hear from guest speaker Andrew Wade who will talk about The Edge Brixham. And oh so much more packed into our little evening: \n\nnews about People’s Postcode Lottery-funded business support\nnews about about the new Torbay Social Enterprise Network\nlots of time for networking\nand some delicious nibbles.\n\nAre you interested in ‘community first’  economic regeneration? Social enterprise\, green enterprise\, local enterprise? Resilience and sustainability? Well\, then\, this is for you and it’s free! \nPlease register\, here so we can plan catering: \nhttps://www.eventbrite.com/e/local-spark-meetup-tickets-85969873205 \nFunded by: \n \n  \n 
URL:https://localsparktorbay.org/event/tsen-networking-event/
LOCATION:Edge Brixham\, Bolton St\, Brixham\, TQ5 9DH\, United Kingdom
CATEGORIES:TSEN event
ATTACH;FMTTYPE=image/jpeg:https://localsparktorbay.org/wp-content/uploads/2019/11/the-edge-brixham-yes-w.jpg
END:VEVENT
BEGIN:VEVENT
DTSTART;TZID=UTC:20191204T180000
DTEND;TZID=UTC:20191204T200000
DTSTAMP:20260421T184136
CREATED:20191127T113924Z
LAST-MODIFIED:20191128T142558Z
UID:669-1575482400-1575489600@localsparktorbay.org
SUMMARY:New Torbay Social Enterprise Launch! Dec 4
DESCRIPTION:The new Torbay Social Enterprise Network is launching on December 4th and we’d like you to be part of the celebration. The Torbay Social Enterprise Network will help raise the visibility of its members and their positive impacts\, add value to their efforts by providing access to support and funding\, and host opportunities to learn\, connect and collaborate.\n\n\nEvent will include: \n\ninteresting speakers from the ‘social economy’\nan overview of membership offer and T-SEN activities\na quick tour of funding opportunities\nhighlights of upcoming workshops and events\, including the Local Entrepreneur Forum\nexcellent food & a full bar\n\nThis will be a fun and informative event set in a fabulous location\, the Palace Theatre in Paignton\, (itself a social enterprise!) What better way to celebrate the launch of the Torbay Social Enterprise Network? Come and learn how you can be part of something special\, the Torbay Social Enterprise Network and the blossoming of the social economy in Torbay. \n\n\n\nWhen:  Wed\, December 4\, 2019\, 6PM – 8PM \n\n\nWhere: Palace Theatre\, Paignton\, TQ3 3HF \n  \n\n\n \n\n  \n  \n  \nAbout our funding:  The Heart of the South West Enhance Social Enterprise Programme is receiving funding from the England European Regional Development Fund (ERDF) as part of the European Structural and Investment Funds Growth Programme 2014-2020.
URL:https://localsparktorbay.org/event/new-torbay-social-enterprise-launch-2/
LOCATION:Palace Theatre Paignton\, Palace Ave\, Paignton\, TQ3 3HF\, United Kingdom
CATEGORIES:TSEN event
ATTACH;FMTTYPE=image/png:https://localsparktorbay.org/wp-content/uploads/2019/11/Screenshot_2019-11-20-Launch-The-new-Torbay-Social-Enterprise-Network.png
END:VEVENT
END:VCALENDAR