BEGIN:VCALENDAR
VERSION:2.0
PRODID:-//LOCAL SPARK TORBAY - ECPv6.2.9//NONSGML v1.0//EN
CALSCALE:GREGORIAN
METHOD:PUBLISH
X-ORIGINAL-URL:https://localsparktorbay.org
X-WR-CALDESC:Events for LOCAL SPARK TORBAY
REFRESH-INTERVAL;VALUE=DURATION:PT1H
X-Robots-Tag:noindex
X-PUBLISHED-TTL:PT1H
BEGIN:VTIMEZONE
TZID:UTC
BEGIN:STANDARD
TZOFFSETFROM:+0000
TZOFFSETTO:+0000
TZNAME:UTC
DTSTART:20230101T000000
END:STANDARD
END:VTIMEZONE
BEGIN:VEVENT
DTSTART;TZID=UTC:20231113T100000
DTEND;TZID=UTC:20231113T123000
DTSTAMP:20260425T181622
CREATED:20231002T162453Z
LAST-MODIFIED:20231106T140810Z
UID:253995-1699869600-1699878600@localsparktorbay.org
SUMMARY:Fool proof your finances - workshop
DESCRIPTION:Do you feel like you have a good grip on your finances? Are you comfortable answering questions about the numbers? Do you have a cashflow forecast\, which you update regularly with the actuals? Or do you hide under the covers and hope it will all go away? Bookkeeping and the day to day financial management of your social enterprise doesn’t have to be something you feel shameful about. For this workshop we’ll introduce you to our guest Rosie Wren\, who will in turn introduce you to the financial management and bookkeeping software Xero and all it has to offer. Rosie will also answer your burning finances questions – so come armed with them across admin\, best practice\, short cuts\, salary advice and more! \nDate: Monday 13th November 2023\nVenue: Parkfield House\nTime: 10am-12.30pm (arrivals 9.30am) \nFor more details on the workshop\, please contact andrea@localsparktorbay.org. Please put FINANCE WORKSHOP in the subject heading to secure your place! Limited places apply.
URL:https://localsparktorbay.org/event/fool-proof-your-finances-workshop/
LOCATION:People’s Parkfield CIC\, Paignton\, TQ3 2NH\, United Kingdom
CATEGORIES:Local Spark event,TSEN event,workshop
ATTACH;FMTTYPE=image/jpeg:https://localsparktorbay.org/wp-content/uploads/2023/10/2-scaled.jpg
END:VEVENT
END:VCALENDAR